BEGIN:VCALENDAR
VERSION:2.0
PRODID:-//Zion Lutheran - ECPv6.15.17.1//NONSGML v1.0//EN
CALSCALE:GREGORIAN
METHOD:PUBLISH
X-ORIGINAL-URL:https://zlcw.org
X-WR-CALDESC:Events for Zion Lutheran
REFRESH-INTERVAL;VALUE=DURATION:PT1H
X-Robots-Tag:noindex
X-PUBLISHED-TTL:PT1H
BEGIN:VTIMEZONE
TZID:UTC
BEGIN:STANDARD
TZOFFSETFROM:+0000
TZOFFSETTO:+0000
TZNAME:UTC
DTSTART:20230101T000000
END:STANDARD
END:VTIMEZONE
BEGIN:VEVENT
DTSTART;TZID=UTC:20240901T090000
DTEND;TZID=UTC:20240901T100000
DTSTAMP:20260420T125234
CREATED:20210520T182243Z
LAST-MODIFIED:20260326T194213Z
UID:11475-1725181200-1725184800@zlcw.org
SUMMARY:Sunday Worship Service
DESCRIPTION:
URL:https://zlcw.org/event/sunday-worship-service/2024-09-01/
LOCATION:Zion Lutheran Church\, 1301 Nelson Street NW\, Warroad\, MN\, 56763\, United States
GEO:48.9088355;-95.3377468
X-APPLE-STRUCTURED-LOCATION;VALUE=URI;X-ADDRESS=Zion Lutheran Church 1301 Nelson Street NW Warroad MN 56763 United States;X-APPLE-RADIUS=500;X-TITLE=1301 Nelson Street NW:geo:-95.3377468,48.9088355
END:VEVENT
BEGIN:VEVENT
DTSTART;TZID=UTC:20240904T120000
DTEND;TZID=UTC:20240904T123000
DTSTAMP:20260420T125234
CREATED:20240501T161333Z
LAST-MODIFIED:20260128T212437Z
UID:11553-1725451200-1725453000@zlcw.org
SUMMARY:Items for weekly publication due
DESCRIPTION:
URL:https://zlcw.org/event/items-for-weekly-publication-due/2024-09-04/
LOCATION:Zion Lutheran Church\, 1301 Nelson Street NW\, Warroad\, MN\, 56763\, United States
GEO:48.9088355;-95.3377468
X-APPLE-STRUCTURED-LOCATION;VALUE=URI;X-ADDRESS=Zion Lutheran Church 1301 Nelson Street NW Warroad MN 56763 United States;X-APPLE-RADIUS=500;X-TITLE=1301 Nelson Street NW:geo:-95.3377468,48.9088355
END:VEVENT
END:VCALENDAR