BEGIN:VCALENDAR
VERSION:2.0
PRODID:-//Zion Lutheran - ECPv6.15.17.1//NONSGML v1.0//EN
CALSCALE:GREGORIAN
METHOD:PUBLISH
X-WR-CALNAME:Zion Lutheran
X-ORIGINAL-URL:https://zlcw.org
X-WR-CALDESC:Events for Zion Lutheran
REFRESH-INTERVAL;VALUE=DURATION:PT1H
X-Robots-Tag:noindex
X-PUBLISHED-TTL:PT1H
BEGIN:VTIMEZONE
TZID:UTC
BEGIN:STANDARD
TZOFFSETFROM:+0000
TZOFFSETTO:+0000
TZNAME:UTC
DTSTART:20250101T000000
END:STANDARD
END:VTIMEZONE
BEGIN:VEVENT
DTSTART;TZID=UTC:20260313T070000
DTEND;TZID=UTC:20260313T080000
DTSTAMP:20260422T101540
CREATED:20210603T172651Z
LAST-MODIFIED:20260326T192853Z
UID:12662-1773385200-1773388800@zlcw.org
SUMMARY:Men's Bible Study
DESCRIPTION:
URL:https://zlcw.org/event/mens-bible-study/2026-03-13/
LOCATION:Zion Lutheran Church\, 1301 Nelson Street NW\, Warroad\, MN\, 56763\, United States
GEO:48.9088355;-95.3377468
X-APPLE-STRUCTURED-LOCATION;VALUE=URI;X-ADDRESS=Zion Lutheran Church 1301 Nelson Street NW Warroad MN 56763 United States;X-APPLE-RADIUS=500;X-TITLE=1301 Nelson Street NW:geo:-95.3377468,48.9088355
END:VEVENT
BEGIN:VEVENT
DTSTART;TZID=UTC:20260311T181500
DTEND;TZID=UTC:20260311T191500
DTSTAMP:20260422T101540
CREATED:20210923T211718Z
LAST-MODIFIED:20210923T211718Z
UID:12668-1773252900-1773256500@zlcw.org
SUMMARY:Wednesday Lenten Worship
DESCRIPTION:
URL:https://zlcw.org/event/wednesday-worship-2/2026-03-11/
LOCATION:Zion Lutheran Church\, 1301 Nelson Street NW\, Warroad\, MN\, 56763\, United States
GEO:48.9088355;-95.3377468
X-APPLE-STRUCTURED-LOCATION;VALUE=URI;X-ADDRESS=Zion Lutheran Church 1301 Nelson Street NW Warroad MN 56763 United States;X-APPLE-RADIUS=500;X-TITLE=1301 Nelson Street NW:geo:-95.3377468,48.9088355
END:VEVENT
BEGIN:VEVENT
DTSTART;TZID=UTC:20260311T170000
DTEND;TZID=UTC:20260311T180000
DTSTAMP:20260422T101540
CREATED:20220303T192850Z
LAST-MODIFIED:20220303T192850Z
UID:12654-1773248400-1773252000@zlcw.org
SUMMARY:Lenten Meal
DESCRIPTION:
URL:https://zlcw.org/event/lenten-meal/2026-03-11/
LOCATION:Zion Lutheran Church\, 1301 Nelson Street NW\, Warroad\, MN\, 56763\, United States
GEO:48.9088355;-95.3377468
X-APPLE-STRUCTURED-LOCATION;VALUE=URI;X-ADDRESS=Zion Lutheran Church 1301 Nelson Street NW Warroad MN 56763 United States;X-APPLE-RADIUS=500;X-TITLE=1301 Nelson Street NW:geo:-95.3377468,48.9088355
END:VEVENT
BEGIN:VEVENT
DTSTART;TZID=UTC:20260311T090000
DTEND;TZID=UTC:20260311T120000
DTSTAMP:20260422T101540
CREATED:20230915T020805Z
LAST-MODIFIED:20260326T192651Z
UID:12717-1773219600-1773230400@zlcw.org
SUMMARY:Quilting for Lutheran World Relief
DESCRIPTION:
URL:https://zlcw.org/event/quilting-for-lutheran-world-relief-2/2026-03-11/
LOCATION:MN
END:VEVENT
BEGIN:VEVENT
DTSTART;TZID=UTC:20260308T100000
DTEND;TZID=UTC:20260308T223000
DTSTAMP:20260422T101540
CREATED:20250821T164436Z
LAST-MODIFIED:20260326T192541Z
UID:12641-1772964000-1773009000@zlcw.org
SUMMARY:Sunday School
DESCRIPTION:For age 3 through grade 5
URL:https://zlcw.org/event/sunday-school/2026-03-08/
LOCATION:Zion Lutheran Church\, 1301 Nelson Street NW\, Warroad\, MN\, 56763\, United States
GEO:48.9088355;-95.3377468
X-APPLE-STRUCTURED-LOCATION;VALUE=URI;X-ADDRESS=Zion Lutheran Church 1301 Nelson Street NW Warroad MN 56763 United States;X-APPLE-RADIUS=500;X-TITLE=1301 Nelson Street NW:geo:-95.3377468,48.9088355
END:VEVENT
BEGIN:VEVENT
DTSTART;TZID=UTC:20260308T090000
DTEND;TZID=UTC:20260308T100000
DTSTAMP:20260422T101540
CREATED:20210520T182243Z
LAST-MODIFIED:20210520T182243Z
UID:12632-1772960400-1772964000@zlcw.org
SUMMARY:Sunday Worship Service
DESCRIPTION:
URL:https://zlcw.org/event/sunday-worship-service/2026-03-08/
LOCATION:Zion Lutheran Church\, 1301 Nelson Street NW\, Warroad\, MN\, 56763\, United States
GEO:48.9088355;-95.3377468
X-APPLE-STRUCTURED-LOCATION;VALUE=URI;X-ADDRESS=Zion Lutheran Church 1301 Nelson Street NW Warroad MN 56763 United States;X-APPLE-RADIUS=500;X-TITLE=1301 Nelson Street NW:geo:-95.3377468,48.9088355
END:VEVENT
BEGIN:VEVENT
DTSTART;TZID=UTC:20260306T070000
DTEND;TZID=UTC:20260306T080000
DTSTAMP:20260422T101540
CREATED:20210603T172651Z
LAST-MODIFIED:20260326T192852Z
UID:12661-1772780400-1772784000@zlcw.org
SUMMARY:Men's Bible Study
DESCRIPTION:
URL:https://zlcw.org/event/mens-bible-study/2026-03-06/
LOCATION:Zion Lutheran Church\, 1301 Nelson Street NW\, Warroad\, MN\, 56763\, United States
GEO:48.9088355;-95.3377468
X-APPLE-STRUCTURED-LOCATION;VALUE=URI;X-ADDRESS=Zion Lutheran Church 1301 Nelson Street NW Warroad MN 56763 United States;X-APPLE-RADIUS=500;X-TITLE=1301 Nelson Street NW:geo:-95.3377468,48.9088355
END:VEVENT
BEGIN:VEVENT
DTSTART;TZID=UTC:20260304T181500
DTEND;TZID=UTC:20260304T191500
DTSTAMP:20260422T101540
CREATED:20210923T211718Z
LAST-MODIFIED:20210923T211718Z
UID:12667-1772648100-1772651700@zlcw.org
SUMMARY:Wednesday Lenten Worship
DESCRIPTION:
URL:https://zlcw.org/event/wednesday-worship-2/2026-03-04/
LOCATION:Zion Lutheran Church\, 1301 Nelson Street NW\, Warroad\, MN\, 56763\, United States
GEO:48.9088355;-95.3377468
X-APPLE-STRUCTURED-LOCATION;VALUE=URI;X-ADDRESS=Zion Lutheran Church 1301 Nelson Street NW Warroad MN 56763 United States;X-APPLE-RADIUS=500;X-TITLE=1301 Nelson Street NW:geo:-95.3377468,48.9088355
END:VEVENT
BEGIN:VEVENT
DTSTART;TZID=UTC:20260304T170000
DTEND;TZID=UTC:20260304T180000
DTSTAMP:20260422T101540
CREATED:20220303T192850Z
LAST-MODIFIED:20220303T192850Z
UID:12653-1772643600-1772647200@zlcw.org
SUMMARY:Lenten Meal
DESCRIPTION:
URL:https://zlcw.org/event/lenten-meal/2026-03-04/
LOCATION:Zion Lutheran Church\, 1301 Nelson Street NW\, Warroad\, MN\, 56763\, United States
GEO:48.9088355;-95.3377468
X-APPLE-STRUCTURED-LOCATION;VALUE=URI;X-ADDRESS=Zion Lutheran Church 1301 Nelson Street NW Warroad MN 56763 United States;X-APPLE-RADIUS=500;X-TITLE=1301 Nelson Street NW:geo:-95.3377468,48.9088355
END:VEVENT
BEGIN:VEVENT
DTSTART;TZID=UTC:20260304T090000
DTEND;TZID=UTC:20260304T120000
DTSTAMP:20260422T101540
CREATED:20230915T020805Z
LAST-MODIFIED:20260326T192648Z
UID:10406-1772614800-1772625600@zlcw.org
SUMMARY:Quilting for Lutheran World Relief
DESCRIPTION:
URL:https://zlcw.org/event/quilting-for-lutheran-world-relief-2/2026-03-04/
LOCATION:MN
END:VEVENT
BEGIN:VEVENT
DTSTART;TZID=UTC:20260301T100000
DTEND;TZID=UTC:20260301T223000
DTSTAMP:20260422T101540
CREATED:20250821T164436Z
LAST-MODIFIED:20260326T192540Z
UID:12640-1772359200-1772404200@zlcw.org
SUMMARY:Sunday School
DESCRIPTION:For age 3 through grade 5
URL:https://zlcw.org/event/sunday-school/2026-03-01/
LOCATION:Zion Lutheran Church\, 1301 Nelson Street NW\, Warroad\, MN\, 56763\, United States
GEO:48.9088355;-95.3377468
X-APPLE-STRUCTURED-LOCATION;VALUE=URI;X-ADDRESS=Zion Lutheran Church 1301 Nelson Street NW Warroad MN 56763 United States;X-APPLE-RADIUS=500;X-TITLE=1301 Nelson Street NW:geo:-95.3377468,48.9088355
END:VEVENT
BEGIN:VEVENT
DTSTART;TZID=UTC:20260301T090000
DTEND;TZID=UTC:20260301T100000
DTSTAMP:20260422T101540
CREATED:20210520T182243Z
LAST-MODIFIED:20210520T182243Z
UID:12631-1772355600-1772359200@zlcw.org
SUMMARY:Sunday Worship Service
DESCRIPTION:
URL:https://zlcw.org/event/sunday-worship-service/2026-03-01/
LOCATION:Zion Lutheran Church\, 1301 Nelson Street NW\, Warroad\, MN\, 56763\, United States
GEO:48.9088355;-95.3377468
X-APPLE-STRUCTURED-LOCATION;VALUE=URI;X-ADDRESS=Zion Lutheran Church 1301 Nelson Street NW Warroad MN 56763 United States;X-APPLE-RADIUS=500;X-TITLE=1301 Nelson Street NW:geo:-95.3377468,48.9088355
END:VEVENT
BEGIN:VEVENT
DTSTART;TZID=UTC:20260227T070000
DTEND;TZID=UTC:20260227T080000
DTSTAMP:20260422T101540
CREATED:20210603T172651Z
LAST-MODIFIED:20260326T192852Z
UID:12660-1772175600-1772179200@zlcw.org
SUMMARY:Men's Bible Study
DESCRIPTION:
URL:https://zlcw.org/event/mens-bible-study/2026-02-27/
LOCATION:Zion Lutheran Church\, 1301 Nelson Street NW\, Warroad\, MN\, 56763\, United States
GEO:48.9088355;-95.3377468
X-APPLE-STRUCTURED-LOCATION;VALUE=URI;X-ADDRESS=Zion Lutheran Church 1301 Nelson Street NW Warroad MN 56763 United States;X-APPLE-RADIUS=500;X-TITLE=1301 Nelson Street NW:geo:-95.3377468,48.9088355
END:VEVENT
BEGIN:VEVENT
DTSTART;TZID=UTC:20260225T181500
DTEND;TZID=UTC:20260225T191500
DTSTAMP:20260422T101540
CREATED:20210923T211718Z
LAST-MODIFIED:20260128T213739Z
UID:8834-1772043300-1772046900@zlcw.org
SUMMARY:Wednesday Lenten Worship
DESCRIPTION:
URL:https://zlcw.org/event/wednesday-worship-2/2026-02-25/
LOCATION:Zion Lutheran Church\, 1301 Nelson Street NW\, Warroad\, MN\, 56763\, United States
GEO:48.9088355;-95.3377468
X-APPLE-STRUCTURED-LOCATION;VALUE=URI;X-ADDRESS=Zion Lutheran Church 1301 Nelson Street NW Warroad MN 56763 United States;X-APPLE-RADIUS=500;X-TITLE=1301 Nelson Street NW:geo:-95.3377468,48.9088355
END:VEVENT
BEGIN:VEVENT
DTSTART;TZID=UTC:20260225T170000
DTEND;TZID=UTC:20260225T180000
DTSTAMP:20260422T101540
CREATED:20220303T192850Z
LAST-MODIFIED:20260128T213453Z
UID:9419-1772038800-1772042400@zlcw.org
SUMMARY:Lenten Meal
DESCRIPTION:
URL:https://zlcw.org/event/lenten-meal/2026-02-25/
LOCATION:Zion Lutheran Church\, 1301 Nelson Street NW\, Warroad\, MN\, 56763\, United States
GEO:48.9088355;-95.3377468
X-APPLE-STRUCTURED-LOCATION;VALUE=URI;X-ADDRESS=Zion Lutheran Church 1301 Nelson Street NW Warroad MN 56763 United States;X-APPLE-RADIUS=500;X-TITLE=1301 Nelson Street NW:geo:-95.3377468,48.9088355
END:VEVENT
BEGIN:VEVENT
DTSTART;TZID=UTC:20260224T173000
DTEND;TZID=UTC:20260224T193000
DTSTAMP:20260422T101540
CREATED:20231003T190354Z
LAST-MODIFIED:20260420T162001Z
UID:12652-1771954200-1771961400@zlcw.org
SUMMARY:Council meeting
DESCRIPTION:
URL:https://zlcw.org/event/council-special-meeting/2026-02-24/
LOCATION:Zion Lutheran Church\, 1301 Nelson Street NW\, Warroad\, MN\, 56763\, United States
GEO:48.9088355;-95.3377468
X-APPLE-STRUCTURED-LOCATION;VALUE=URI;X-ADDRESS=Zion Lutheran Church 1301 Nelson Street NW Warroad MN 56763 United States;X-APPLE-RADIUS=500;X-TITLE=1301 Nelson Street NW:geo:-95.3377468,48.9088355
END:VEVENT
BEGIN:VEVENT
DTSTART;TZID=UTC:20260222T100000
DTEND;TZID=UTC:20260222T223000
DTSTAMP:20260422T101540
CREATED:20250821T164436Z
LAST-MODIFIED:20260326T192540Z
UID:12639-1771754400-1771799400@zlcw.org
SUMMARY:Sunday School
DESCRIPTION:For age 3 through grade 5
URL:https://zlcw.org/event/sunday-school/2026-02-22/
LOCATION:Zion Lutheran Church\, 1301 Nelson Street NW\, Warroad\, MN\, 56763\, United States
GEO:48.9088355;-95.3377468
X-APPLE-STRUCTURED-LOCATION;VALUE=URI;X-ADDRESS=Zion Lutheran Church 1301 Nelson Street NW Warroad MN 56763 United States;X-APPLE-RADIUS=500;X-TITLE=1301 Nelson Street NW:geo:-95.3377468,48.9088355
END:VEVENT
BEGIN:VEVENT
DTSTART;TZID=UTC:20260222T090000
DTEND;TZID=UTC:20260222T100000
DTSTAMP:20260422T101540
CREATED:20210520T182243Z
LAST-MODIFIED:20210520T182243Z
UID:12630-1771750800-1771754400@zlcw.org
SUMMARY:Sunday Worship Service
DESCRIPTION:
URL:https://zlcw.org/event/sunday-worship-service/2026-02-22/
LOCATION:Zion Lutheran Church\, 1301 Nelson Street NW\, Warroad\, MN\, 56763\, United States
GEO:48.9088355;-95.3377468
X-APPLE-STRUCTURED-LOCATION;VALUE=URI;X-ADDRESS=Zion Lutheran Church 1301 Nelson Street NW Warroad MN 56763 United States;X-APPLE-RADIUS=500;X-TITLE=1301 Nelson Street NW:geo:-95.3377468,48.9088355
END:VEVENT
BEGIN:VEVENT
DTSTART;TZID=UTC:20260220T070000
DTEND;TZID=UTC:20260220T080000
DTSTAMP:20260422T101540
CREATED:20210603T172651Z
LAST-MODIFIED:20260326T192852Z
UID:12659-1771570800-1771574400@zlcw.org
SUMMARY:Men's Bible Study
DESCRIPTION:
URL:https://zlcw.org/event/mens-bible-study/2026-02-20/
LOCATION:Zion Lutheran Church\, 1301 Nelson Street NW\, Warroad\, MN\, 56763\, United States
GEO:48.9088355;-95.3377468
X-APPLE-STRUCTURED-LOCATION;VALUE=URI;X-ADDRESS=Zion Lutheran Church 1301 Nelson Street NW Warroad MN 56763 United States;X-APPLE-RADIUS=500;X-TITLE=1301 Nelson Street NW:geo:-95.3377468,48.9088355
END:VEVENT
BEGIN:VEVENT
DTSTART;TZID=UTC:20260218T181500
DTEND;TZID=UTC:20260218T191500
DTSTAMP:20260422T101540
CREATED:20220224T210121Z
LAST-MODIFIED:20260128T213214Z
UID:9394-1771438500-1771442100@zlcw.org
SUMMARY:Ash Wednesday Worship
DESCRIPTION:
URL:https://zlcw.org/event/ash-wednesday-worship/
LOCATION:Zion Lutheran Church\, 1301 Nelson Street NW\, Warroad\, MN\, 56763\, United States
GEO:48.9088355;-95.3377468
X-APPLE-STRUCTURED-LOCATION;VALUE=URI;X-ADDRESS=Zion Lutheran Church 1301 Nelson Street NW Warroad MN 56763 United States;X-APPLE-RADIUS=500;X-TITLE=1301 Nelson Street NW:geo:-95.3377468,48.9088355
END:VEVENT
BEGIN:VEVENT
DTSTART;TZID=UTC:20260217T173000
DTEND;TZID=UTC:20260217T183000
DTSTAMP:20260422T101540
CREATED:20190725T201531Z
LAST-MODIFIED:20260420T161905Z
UID:12649-1771349400-1771353000@zlcw.org
SUMMARY:Executive Committee meeting
DESCRIPTION:
URL:https://zlcw.org/event/executive-committee-meeting/2026-02-17/
LOCATION:Zion Lutheran Church\, 1301 Nelson Street NW\, Warroad\, MN\, 56763\, United States
GEO:48.9088355;-95.3377468
X-APPLE-STRUCTURED-LOCATION;VALUE=URI;X-ADDRESS=Zion Lutheran Church 1301 Nelson Street NW Warroad MN 56763 United States;X-APPLE-RADIUS=500;X-TITLE=1301 Nelson Street NW:geo:-95.3377468,48.9088355
END:VEVENT
BEGIN:VEVENT
DTSTART;VALUE=DATE:20260216
DTEND;VALUE=DATE:20260217
DTSTAMP:20260422T101540
CREATED:20220210T185009Z
LAST-MODIFIED:20260128T212750Z
UID:9345-1771200000-1771286399@zlcw.org
SUMMARY:Church offices closed - President's Day
DESCRIPTION:
URL:https://zlcw.org/event/presidents-day-church-offices-closed/
LOCATION:Zion Lutheran Church\, 1301 Nelson Street NW\, Warroad\, MN\, 56763\, United States
GEO:48.9088355;-95.3377468
X-APPLE-STRUCTURED-LOCATION;VALUE=URI;X-ADDRESS=Zion Lutheran Church 1301 Nelson Street NW Warroad MN 56763 United States;X-APPLE-RADIUS=500;X-TITLE=1301 Nelson Street NW:geo:-95.3377468,48.9088355
END:VEVENT
BEGIN:VEVENT
DTSTART;TZID=UTC:20260215T100000
DTEND;TZID=UTC:20260215T223000
DTSTAMP:20260422T101540
CREATED:20250821T164436Z
LAST-MODIFIED:20260326T192540Z
UID:12638-1771149600-1771194600@zlcw.org
SUMMARY:Sunday School
DESCRIPTION:For age 3 through grade 5
URL:https://zlcw.org/event/sunday-school/2026-02-15/
LOCATION:Zion Lutheran Church\, 1301 Nelson Street NW\, Warroad\, MN\, 56763\, United States
GEO:48.9088355;-95.3377468
X-APPLE-STRUCTURED-LOCATION;VALUE=URI;X-ADDRESS=Zion Lutheran Church 1301 Nelson Street NW Warroad MN 56763 United States;X-APPLE-RADIUS=500;X-TITLE=1301 Nelson Street NW:geo:-95.3377468,48.9088355
END:VEVENT
BEGIN:VEVENT
DTSTART;TZID=UTC:20260215T090000
DTEND;TZID=UTC:20260215T100000
DTSTAMP:20260422T101540
CREATED:20210520T182243Z
LAST-MODIFIED:20210520T182243Z
UID:12629-1771146000-1771149600@zlcw.org
SUMMARY:Sunday Worship Service
DESCRIPTION:
URL:https://zlcw.org/event/sunday-worship-service/2026-02-15/
LOCATION:Zion Lutheran Church\, 1301 Nelson Street NW\, Warroad\, MN\, 56763\, United States
GEO:48.9088355;-95.3377468
X-APPLE-STRUCTURED-LOCATION;VALUE=URI;X-ADDRESS=Zion Lutheran Church 1301 Nelson Street NW Warroad MN 56763 United States;X-APPLE-RADIUS=500;X-TITLE=1301 Nelson Street NW:geo:-95.3377468,48.9088355
END:VEVENT
BEGIN:VEVENT
DTSTART;TZID=UTC:20260213T070000
DTEND;TZID=UTC:20260213T080000
DTSTAMP:20260422T101540
CREATED:20210603T172651Z
LAST-MODIFIED:20260326T192852Z
UID:12658-1770966000-1770969600@zlcw.org
SUMMARY:Men's Bible Study
DESCRIPTION:
URL:https://zlcw.org/event/mens-bible-study/2026-02-13/
LOCATION:Zion Lutheran Church\, 1301 Nelson Street NW\, Warroad\, MN\, 56763\, United States
GEO:48.9088355;-95.3377468
X-APPLE-STRUCTURED-LOCATION;VALUE=URI;X-ADDRESS=Zion Lutheran Church 1301 Nelson Street NW Warroad MN 56763 United States;X-APPLE-RADIUS=500;X-TITLE=1301 Nelson Street NW:geo:-95.3377468,48.9088355
END:VEVENT
BEGIN:VEVENT
DTSTART;TZID=UTC:20260211T171500
DTEND;TZID=UTC:20260211T174500
DTSTAMP:20260422T101540
CREATED:20250304T190807Z
LAST-MODIFIED:20260326T193908Z
UID:12793-1770830100-1770831900@zlcw.org
SUMMARY:Pre-Confirmation
DESCRIPTION:
URL:https://zlcw.org/event/pre-confirmation/2026-02-11/
LOCATION:Zion Lutheran Church\, 1301 Nelson Street NW\, Warroad\, MN\, 56763\, United States
GEO:48.9088355;-95.3377468
X-APPLE-STRUCTURED-LOCATION;VALUE=URI;X-ADDRESS=Zion Lutheran Church 1301 Nelson Street NW Warroad MN 56763 United States;X-APPLE-RADIUS=500;X-TITLE=1301 Nelson Street NW:geo:-95.3377468,48.9088355
END:VEVENT
BEGIN:VEVENT
DTSTART;TZID=UTC:20260208T120000
DTEND;TZID=UTC:20260208T140000
DTSTAMP:20260422T101540
CREATED:20230621T190320Z
LAST-MODIFIED:20230621T190320Z
UID:12651-1770552000-1770559200@zlcw.org
SUMMARY:Book Club
DESCRIPTION:Join Kamarra Brunelle in meeting of “Tuesdays with Morrie” by Mitch Albom.
URL:https://zlcw.org/event/summer-book-club/2026-02-08/
LOCATION:Zion Lutheran Church\, 1301 Nelson Street NW\, Warroad\, MN\, 56763\, United States
GEO:48.9088355;-95.3377468
X-APPLE-STRUCTURED-LOCATION;VALUE=URI;X-ADDRESS=Zion Lutheran Church 1301 Nelson Street NW Warroad MN 56763 United States;X-APPLE-RADIUS=500;X-TITLE=1301 Nelson Street NW:geo:-95.3377468,48.9088355
END:VEVENT
BEGIN:VEVENT
DTSTART;TZID=UTC:20260208T100000
DTEND;TZID=UTC:20260208T223000
DTSTAMP:20260422T101540
CREATED:20250821T164436Z
LAST-MODIFIED:20260326T192540Z
UID:12637-1770544800-1770589800@zlcw.org
SUMMARY:Sunday School
DESCRIPTION:For age 3 through grade 5
URL:https://zlcw.org/event/sunday-school/2026-02-08/
LOCATION:Zion Lutheran Church\, 1301 Nelson Street NW\, Warroad\, MN\, 56763\, United States
GEO:48.9088355;-95.3377468
X-APPLE-STRUCTURED-LOCATION;VALUE=URI;X-ADDRESS=Zion Lutheran Church 1301 Nelson Street NW Warroad MN 56763 United States;X-APPLE-RADIUS=500;X-TITLE=1301 Nelson Street NW:geo:-95.3377468,48.9088355
END:VEVENT
BEGIN:VEVENT
DTSTART;TZID=UTC:20260208T090000
DTEND;TZID=UTC:20260208T100000
DTSTAMP:20260422T101540
CREATED:20210520T182243Z
LAST-MODIFIED:20210520T182243Z
UID:12628-1770541200-1770544800@zlcw.org
SUMMARY:Sunday Worship Service
DESCRIPTION:
URL:https://zlcw.org/event/sunday-worship-service/2026-02-08/
LOCATION:Zion Lutheran Church\, 1301 Nelson Street NW\, Warroad\, MN\, 56763\, United States
GEO:48.9088355;-95.3377468
X-APPLE-STRUCTURED-LOCATION;VALUE=URI;X-ADDRESS=Zion Lutheran Church 1301 Nelson Street NW Warroad MN 56763 United States;X-APPLE-RADIUS=500;X-TITLE=1301 Nelson Street NW:geo:-95.3377468,48.9088355
END:VEVENT
BEGIN:VEVENT
DTSTART;TZID=UTC:20260206T070000
DTEND;TZID=UTC:20260206T080000
DTSTAMP:20260422T101540
CREATED:20210603T172651Z
LAST-MODIFIED:20260326T192851Z
UID:12657-1770361200-1770364800@zlcw.org
SUMMARY:Men's Bible Study
DESCRIPTION:
URL:https://zlcw.org/event/mens-bible-study/2026-02-06/
LOCATION:Zion Lutheran Church\, 1301 Nelson Street NW\, Warroad\, MN\, 56763\, United States
GEO:48.9088355;-95.3377468
X-APPLE-STRUCTURED-LOCATION;VALUE=URI;X-ADDRESS=Zion Lutheran Church 1301 Nelson Street NW Warroad MN 56763 United States;X-APPLE-RADIUS=500;X-TITLE=1301 Nelson Street NW:geo:-95.3377468,48.9088355
END:VEVENT
END:VCALENDAR