BEGIN:VCALENDAR
VERSION:2.0
PRODID:-//Zion Lutheran - ECPv6.15.17.1//NONSGML v1.0//EN
CALSCALE:GREGORIAN
METHOD:PUBLISH
X-ORIGINAL-URL:https://zlcw.org
X-WR-CALDESC:Events for Zion Lutheran
REFRESH-INTERVAL;VALUE=DURATION:PT1H
X-Robots-Tag:noindex
X-PUBLISHED-TTL:PT1H
BEGIN:VTIMEZONE
TZID:UTC
BEGIN:STANDARD
TZOFFSETFROM:+0000
TZOFFSETTO:+0000
TZNAME:UTC
DTSTART:20250101T000000
END:STANDARD
END:VTIMEZONE
BEGIN:VEVENT
DTSTART;TZID=UTC:20260318T090000
DTEND;TZID=UTC:20260318T120000
DTSTAMP:20260422T084718
CREATED:20230915T020805Z
LAST-MODIFIED:20260326T192651Z
UID:12718-1773824400-1773835200@zlcw.org
SUMMARY:Quilting for Lutheran World Relief
DESCRIPTION:
URL:https://zlcw.org/event/quilting-for-lutheran-world-relief-2/2026-03-18/
LOCATION:MN
END:VEVENT
BEGIN:VEVENT
DTSTART;TZID=UTC:20260318T170000
DTEND;TZID=UTC:20260318T180000
DTSTAMP:20260422T084718
CREATED:20220303T192850Z
LAST-MODIFIED:20220303T192850Z
UID:12655-1773853200-1773856800@zlcw.org
SUMMARY:Lenten Meal
DESCRIPTION:
URL:https://zlcw.org/event/lenten-meal/2026-03-18/
LOCATION:Zion Lutheran Church\, 1301 Nelson Street NW\, Warroad\, MN\, 56763\, United States
GEO:48.9088355;-95.3377468
X-APPLE-STRUCTURED-LOCATION;VALUE=URI;X-ADDRESS=Zion Lutheran Church 1301 Nelson Street NW Warroad MN 56763 United States;X-APPLE-RADIUS=500;X-TITLE=1301 Nelson Street NW:geo:-95.3377468,48.9088355
END:VEVENT
BEGIN:VEVENT
DTSTART;TZID=UTC:20260318T181500
DTEND;TZID=UTC:20260318T191500
DTSTAMP:20260422T084718
CREATED:20210923T211718Z
LAST-MODIFIED:20210923T211718Z
UID:12669-1773857700-1773861300@zlcw.org
SUMMARY:Wednesday Lenten Worship
DESCRIPTION:
URL:https://zlcw.org/event/wednesday-worship-2/2026-03-18/
LOCATION:Zion Lutheran Church\, 1301 Nelson Street NW\, Warroad\, MN\, 56763\, United States
GEO:48.9088355;-95.3377468
X-APPLE-STRUCTURED-LOCATION;VALUE=URI;X-ADDRESS=Zion Lutheran Church 1301 Nelson Street NW Warroad MN 56763 United States;X-APPLE-RADIUS=500;X-TITLE=1301 Nelson Street NW:geo:-95.3377468,48.9088355
END:VEVENT
END:VCALENDAR